BEGIN:VCALENDAR
VERSION:2.0
PRODID:-//Coletivo 420 - ECPv6.15.12.2//NONSGML v1.0//EN
CALSCALE:GREGORIAN
METHOD:PUBLISH
X-ORIGINAL-URL:https://4e20.org.br
X-WR-CALDESC:Eventos para Coletivo 420
REFRESH-INTERVAL;VALUE=DURATION:PT1H
X-Robots-Tag:noindex
X-PUBLISHED-TTL:PT1H
BEGIN:VTIMEZONE
TZID:America/Sao_Paulo
BEGIN:STANDARD
TZOFFSETFROM:-0300
TZOFFSETTO:-0300
TZNAME:-03
DTSTART:20250101T000000
END:STANDARD
END:VTIMEZONE
BEGIN:VEVENT
DTSTART;TZID=America/Sao_Paulo:20260425T100000
DTEND;TZID=America/Sao_Paulo:20260425T110000
DTSTAMP:20260419T235130
CREATED:20260408T121443Z
LAST-MODIFIED:20260408T121718Z
UID:10000602-1777111200-1777114800@4e20.org.br
SUMMARY:Reunião conjunta das Marchas - Toda Segunda
DESCRIPTION:Sábado\, 10h da manhã\, online.Marcha Piri + Marcha APGO + Fórum Goiano da Legalização juntam forças pra alinhar calendário\, pautas e estratégias de mobilização por legalização\, autocultivo e redução de danos. ✊🌿
URL:https://4e20.org.br/eventos/reuniao-conjunta-das-marchas-toda-segunda/2026-04-25/
CATEGORIES:Marchas da Maconha
LOCATION:
END:VEVENT
BEGIN:VEVENT
DTSTART;TZID=America/Sao_Paulo:20260502T100000
DTEND;TZID=America/Sao_Paulo:20260502T110000
DTSTAMP:20260419T235130
CREATED:20260408T121443Z
LAST-MODIFIED:20260408T121718Z
UID:10000603-1777716000-1777719600@4e20.org.br
SUMMARY:Reunião conjunta das Marchas - Toda Segunda
DESCRIPTION:Sábado\, 10h da manhã\, online.Marcha Piri + Marcha APGO + Fórum Goiano da Legalização juntam forças pra alinhar calendário\, pautas e estratégias de mobilização por legalização\, autocultivo e redução de danos. ✊🌿
URL:https://4e20.org.br/eventos/reuniao-conjunta-das-marchas-toda-segunda/2026-05-02/
CATEGORIES:Marchas da Maconha
LOCATION:
END:VEVENT
BEGIN:VEVENT
DTSTART;TZID=America/Sao_Paulo:20260509T100000
DTEND;TZID=America/Sao_Paulo:20260509T110000
DTSTAMP:20260419T235130
CREATED:20260408T121443Z
LAST-MODIFIED:20260408T121718Z
UID:10000604-1778320800-1778324400@4e20.org.br
SUMMARY:Reunião conjunta das Marchas - Toda Segunda
DESCRIPTION:Sábado\, 10h da manhã\, online.Marcha Piri + Marcha APGO + Fórum Goiano da Legalização juntam forças pra alinhar calendário\, pautas e estratégias de mobilização por legalização\, autocultivo e redução de danos. ✊🌿
URL:https://4e20.org.br/eventos/reuniao-conjunta-das-marchas-toda-segunda/2026-05-09/
CATEGORIES:Marchas da Maconha
LOCATION:
END:VEVENT
BEGIN:VEVENT
DTSTART;TZID=America/Sao_Paulo:20260516T100000
DTEND;TZID=America/Sao_Paulo:20260516T110000
DTSTAMP:20260419T235130
CREATED:20260408T121443Z
LAST-MODIFIED:20260408T121718Z
UID:10000605-1778925600-1778929200@4e20.org.br
SUMMARY:Reunião conjunta das Marchas - Toda Segunda
DESCRIPTION:Sábado\, 10h da manhã\, online.Marcha Piri + Marcha APGO + Fórum Goiano da Legalização juntam forças pra alinhar calendário\, pautas e estratégias de mobilização por legalização\, autocultivo e redução de danos. ✊🌿
URL:https://4e20.org.br/eventos/reuniao-conjunta-das-marchas-toda-segunda/2026-05-16/
CATEGORIES:Marchas da Maconha
LOCATION:
END:VEVENT
BEGIN:VEVENT
DTSTART;TZID=America/Sao_Paulo:20260523T100000
DTEND;TZID=America/Sao_Paulo:20260523T110000
DTSTAMP:20260419T235130
CREATED:20260408T121443Z
LAST-MODIFIED:20260408T121718Z
UID:10000606-1779530400-1779534000@4e20.org.br
SUMMARY:Reunião conjunta das Marchas - Toda Segunda
DESCRIPTION:Sábado\, 10h da manhã\, online.Marcha Piri + Marcha APGO + Fórum Goiano da Legalização juntam forças pra alinhar calendário\, pautas e estratégias de mobilização por legalização\, autocultivo e redução de danos. ✊🌿
URL:https://4e20.org.br/eventos/reuniao-conjunta-das-marchas-toda-segunda/2026-05-23/
CATEGORIES:Marchas da Maconha
LOCATION:
END:VEVENT
BEGIN:VEVENT
DTSTART;TZID=America/Sao_Paulo:20260530T100000
DTEND;TZID=America/Sao_Paulo:20260530T110000
DTSTAMP:20260419T235130
CREATED:20260408T121443Z
LAST-MODIFIED:20260408T121718Z
UID:10000607-1780135200-1780138800@4e20.org.br
SUMMARY:Reunião conjunta das Marchas - Toda Segunda
DESCRIPTION:Sábado\, 10h da manhã\, online.Marcha Piri + Marcha APGO + Fórum Goiano da Legalização juntam forças pra alinhar calendário\, pautas e estratégias de mobilização por legalização\, autocultivo e redução de danos. ✊🌿
URL:https://4e20.org.br/eventos/reuniao-conjunta-das-marchas-toda-segunda/2026-05-30/
CATEGORIES:Marchas da Maconha
LOCATION:
END:VEVENT
BEGIN:VEVENT
DTSTART;TZID=America/Sao_Paulo:20260606T100000
DTEND;TZID=America/Sao_Paulo:20260606T110000
DTSTAMP:20260419T235130
CREATED:20260408T121443Z
LAST-MODIFIED:20260408T121718Z
UID:10000608-1780740000-1780743600@4e20.org.br
SUMMARY:Reunião conjunta das Marchas - Toda Segunda
DESCRIPTION:Sábado\, 10h da manhã\, online.Marcha Piri + Marcha APGO + Fórum Goiano da Legalização juntam forças pra alinhar calendário\, pautas e estratégias de mobilização por legalização\, autocultivo e redução de danos. ✊🌿
URL:https://4e20.org.br/eventos/reuniao-conjunta-das-marchas-toda-segunda/2026-06-06/
CATEGORIES:Marchas da Maconha
LOCATION:
END:VEVENT
END:VCALENDAR